BEGIN:VCALENDAR
VERSION:2.0
PRODID:-//Kino Pobjeda Metković - ECPv4.6.8//NONSGML v1.0//EN
CALSCALE:GREGORIAN
METHOD:PUBLISH
X-WR-CALNAME:Kino Pobjeda Metković
X-ORIGINAL-URL:http://www.kinopobjeda.hr
X-WR-CALDESC:Events for Kino Pobjeda Metković
BEGIN:VEVENT
DTSTART;TZID=UTC+1:20210130T170000
DTEND;TZID=UTC+1:20210130T183000
DTSTAMP:20260421T074024
CREATED:20210126T090816Z
LAST-MODIFIED:20210126T090816Z
UID:3633-1612026000-1612031400@www.kinopobjeda.hr
SUMMARY:Priče iz skrivenog grada: Drvo želja
DESCRIPTION:\n  \nU Kinu „Pobjeda“ Metković u subotu\, 30. siječnja u 17 sati na rasporedu je animirani film „Priče iz skrivenog grada: Drvo želja“\, sinkroniziran na hrvatski jezik.\nU skrivenom su gradu njegovi građani davno sklopili pakt o suživotu u harmoniji\, ali mlada oposumka Kerry sanja o avanturi izvan zidina grada. \nNa ceremoniji koja se odvija svake godine\, ona ubere posljednje sjeme s mitskog Stabla želja\, koje nekako pokreće apokaliptičnu ledenu oluju. Sljedećeg jutra se budi u svom gradu koji je prekriven snijegom\, a svim stanovnicima zaprijeti opasnost. Kerry će imati jako malo vremena kako bi ispravila svoju pogrešku i spasila svoj grad i njegove stanovnike. \n  \n  \n
URL:http://www.kinopobjeda.hr/raspored/price-iz-skrivenog-grada-drvo-zelja/
CATEGORIES:animirani,sinkronizirano
END:VEVENT
END:VCALENDAR