BEGIN:VCALENDAR
VERSION:2.0
PRODID:-//Kino Pobjeda Metković - ECPv4.6.8//NONSGML v1.0//EN
CALSCALE:GREGORIAN
METHOD:PUBLISH
X-WR-CALNAME:Kino Pobjeda Metković
X-ORIGINAL-URL:http://www.kinopobjeda.hr
X-WR-CALDESC:Events for Kino Pobjeda Metković
BEGIN:VEVENT
DTSTART;TZID=UTC+1:20230128T170000
DTEND;TZID=UTC+1:20230128T182800
DTSTAMP:20260420T011811
CREATED:20230124T083448Z
LAST-MODIFIED:20230124T083448Z
UID:4667-1674925200-1674930480@www.kinopobjeda.hr
SUMMARY:Priče iz Skrivenoga grada: Neustrašiva Dina
DESCRIPTION:\nU Kinu ‘Pobjeda’ Metković u subotu\, 28. siječnja u 17 sati na rasporedu je animirani film ‘Priče iz Skrivenoga grada: Neustrašiva Dina’\, sinkroniziran na hrvatski jezik. \nVječno optimistična kuoka po imenu Dina ima nemoguć san – pobijediti u ‘Najstrašnijim igrama na svijetu’. \nSkriveni grad vrvi od priprema za ‘Najstrašnije igre na svijetu’\, globalni spektakl u stilu Olimpijskih igara koji dočekuje najžešće\, najsmrtonosnije i najstrašnije životinje iz cijelog svijeta koje se natječu za željnu titulu ‘Najstrašnije životinje na svijetu’. Ljupka i nasmijana kuoka po imenu Dina ima kolosalan san; postati NAJstrašnija životinja na svijetu! Nevoljko zamolivši pomoć drskog bivšeg prvaka\, morskog krokodila po imenu Frankie\, Dina mora prihvatiti sve izazove ove slavne igre. Njezin je cilj nadvladati sve natjecatelje i dokazati svom gradu da pravi šampioni dolaze u svim veličinama!ž \n
URL:http://www.kinopobjeda.hr/raspored/price-iz-skrivenoga-grada-neustrasiva-dina/
CATEGORIES:animirani,sinkronizirano
END:VEVENT
END:VCALENDAR