BEGIN:VCALENDAR
VERSION:2.0
PRODID:-//Kino Pobjeda Metković - ECPv4.6.8//NONSGML v1.0//EN
CALSCALE:GREGORIAN
METHOD:PUBLISH
X-WR-CALNAME:Kino Pobjeda Metković
X-ORIGINAL-URL:http://www.kinopobjeda.hr
X-WR-CALDESC:Events for Kino Pobjeda Metković
BEGIN:VEVENT
DTSTART;TZID=UTC+1:20180204T193000
DTEND;TZID=UTC+1:20180204T213000
DTSTAMP:20260423T020146
CREATED:20180129T102520Z
LAST-MODIFIED:20180129T102717Z
UID:1988-1517772600-1517779800@www.kinopobjeda.hr
SUMMARY:Prijelomni čas
DESCRIPTION:\nIZVORNO IME: Darkest hour\nREDATELJ: Joe Wright | ŽANR: Biografija\, drama\, povijesni\nULOGE: Lily James\, Gary Oldman\, Ben Mendelsohn\nTRAJANJE FILMA: 125 minuta | GODINA: 2018. | DRŽAVA: SAD\nDATUM PRIKAZIVANJA: 4.02.2018. \nSADRŽAJ FILMA:\nU roku od nekoliko dana nakon što je postao premijer\, Winston Churchill mora se suočiti s najbrutalnijim i definiranijim suđenjem: istraživanjem pregovaračkog mirovnog sporazuma s nacističkom Njemačkom ili ostati čvrst u borbi za ideale\, oslobođenje i slobodu nacije.\nHIGHLIGHT:\nNominiran za:\nza najbolji film\,\nza najbolju glavnu mušku ulogu Gary Oldman\nza najbolju fotografiju\nza najbolju scenografiju\nza najbolji dizajn kostima\nza najbolju šminku. \n \n
URL:http://www.kinopobjeda.hr/raspored/prijelomni-cas/
CATEGORIES:drama,povijesni
END:VEVENT
END:VCALENDAR