BEGIN:VCALENDAR
VERSION:2.0
PRODID:-//Kino Pobjeda Metković - ECPv4.6.8//NONSGML v1.0//EN
CALSCALE:GREGORIAN
METHOD:PUBLISH
X-WR-CALNAME:Kino Pobjeda Metković
X-ORIGINAL-URL:http://www.kinopobjeda.hr
X-WR-CALDESC:Events for Kino Pobjeda Metković
BEGIN:VEVENT
DTSTART;TZID=UTC+1:20180609T183000
DTEND;TZID=UTC+1:20180609T193000
DTSTAMP:20260424T023249
CREATED:20180606T091823Z
LAST-MODIFIED:20180606T092908Z
UID:2366-1528569000-1528572600@www.kinopobjeda.hr
SUMMARY:PRINČEVA STRANA PRIČE - SINK
DESCRIPTION:\nPRINČEVA STRANA PRIČE – SINK \nREDATELJ: Ross Venokur  |  ŽANR: Animacija \nULOGE: Radovan Ruždjak\, Tena Jeić Gajski\, Mila Elegović\, Renata Sabljak\, Hana Hegedušić\, Vanda Winter \nTRAJANJE FILMA: 86 minuta \nSADRŽAJ FILMA: \nKao beba\, princ Šarmer je blagoslovljen neodoljivim šarmom zbog kojeg se na njega sve žene lijepe kao magnet. Svaka žena koju upozna se zaljubljuje u njega. Nakon što se nađe zaručen s tri djevojke\, princ uz pomoć stranca odluči krenuti u potragu za pravom ljubavi. Međutim\, stranac „Lenny” krije veliku tajnu. \n \n
URL:http://www.kinopobjeda.hr/raspored/princeva-strana-price-sink/
CATEGORIES:animirani
END:VEVENT
END:VCALENDAR