BEGIN:VCALENDAR
VERSION:2.0
PRODID:-//Kino Pobjeda Metković - ECPv4.6.8//NONSGML v1.0//EN
CALSCALE:GREGORIAN
METHOD:PUBLISH
X-WR-CALNAME:Kino Pobjeda Metković
X-ORIGINAL-URL:http://www.kinopobjeda.hr
X-WR-CALDESC:Events for Kino Pobjeda Metković
BEGIN:VEVENT
DTSTART;TZID=UTC+1:20181111T193000
DTEND;TZID=UTC+1:20181111T213000
DTSTAMP:20260422T160158
CREATED:20181107T100326Z
LAST-MODIFIED:20181107T100453Z
UID:2517-1541964600-1541971800@www.kinopobjeda.hr
SUMMARY:PRVI ČOVJEK NA MJESECU
DESCRIPTION:\nZVORNO IME: First Man\nREDATELJ: Damien Chazelle | ŽANR: Biografski\, drama\, povijesni\nULOGE: Ryan Gosling\, Claire Foy\nTRAJANJE FILMA: 141 minuta | GODINA: 2018 | DRŽAVA: SAD | PLAKAT FILMA\nPOČETAK PRIKAZIVANJA: 11.11.2018 \nSADRŽAJ FILMA:\nBiografska drama redatelja Damiena Chazellea\, snimljena prema knjizi Jamesa Hansena i u scenarističkoj adaptaciji Oscarovca Josha Singera (Spotlight)\, na velike ekrane donosi jedan od najznačajnijih djelića povijesti napretka znanosti i čovječanstva uopće. \nPrvi čovjek najvećih filmskih romansi današnjice\, Ryan Gosling u glavnoj ulozi i za njega nekarakterističnom tematskom izletu\, sada postaje prvi čovjek na mjesecu. Kao svojevrsna kronika Armstrongovog života i karijere\, film nas uvodi u zbivanja između 1961. i 1969.\, razdoblje pripreme i egzekucije jedne od najopasnijih misija u povijesti putovanja u svemir. U nizu NASA-inih projekata\, jedan je u svjetskoj povijesti ostavio dubok trag. Uspješnim slijetanjem na mjesec 20. srpnja 1969. godine\, astronaut Neil Armstrong postao je prvi čovjek čija je noga kročila na površinu mjeseca. U toj povijesnoj šetnji pridružio mu se Buzz Aldrin\, dok je njihov kolega Michael Collins za to vrijeme orbitiratio oko mjeseca na komandom brodu. \nPrvi čovjek na mjesecu od 1969.\, a od 11.10.2018. i u hrvatskim kinima. Ne propustite filmsku priču o tome kako je korak jednog čovjeka poveo čitavo čovječanstvo u novu eru. \n
URL:http://www.kinopobjeda.hr/raspored/prvi-covjek-mjesecu/
CATEGORIES:biografija,drama,povijesni
END:VEVENT
END:VCALENDAR