BEGIN:VCALENDAR
VERSION:2.0
PRODID:-//Kino Pobjeda Metković - ECPv4.6.8//NONSGML v1.0//EN
CALSCALE:GREGORIAN
METHOD:PUBLISH
X-WR-CALNAME:Kino Pobjeda Metković
X-ORIGINAL-URL:http://www.kinopobjeda.hr
X-WR-CALDESC:Events for Kino Pobjeda Metković
BEGIN:VEVENT
DTSTART;TZID=UTC+1:20231007T173000
DTEND;TZID=UTC+1:20231007T190200
DTSTAMP:20260419T143959
CREATED:20231003T063920Z
LAST-MODIFIED:20231003T063920Z
UID:5026-1696699800-1696705320@www.kinopobjeda.hr
SUMMARY:Psići u ophodnji: Moćan film
DESCRIPTION:\nU subotu\, 7. listopada s početkom u 17:30 na rasporedu je animirani film ‘Psići u ophodnji: Moćan film’\, sinkroniziran na hrvatski jezik. Nakon što su prije dvije godine osvojili gledatelje\, omiljeni psići vraćaju se u najvećoj pustolovini dosad!\nČarobni meteor padne na Adventure City i psićima podari supermoći zbog čega oni postaju Moćni psići. Nevolja nikad ne spava pa su tu naravno i zlikovaci koji im želi preoteti novostečene moći. Oni se\, naravno\, žele domoći supermoći pod svaku cijenu\, a to uključuje dobrobit cijelog Adventure Cityja i njegovih stanovnika. Psići će morati surađivati kao nikad prije\, a najmanja među njima\, Skye\, morat će naučiti vjerovati u sebe. Tu je i najnovija članica ekipe\, Liberty\, koja hrabro surađuje sa svojom novom ekipom. \n  \n
URL:http://www.kinopobjeda.hr/raspored/psici-ophodnji-mocan-film/
CATEGORIES:animirani,sinkronizirano
END:VEVENT
END:VCALENDAR