BEGIN:VCALENDAR
VERSION:2.0
PRODID:-//Kino Pobjeda Metković - ECPv4.6.8//NONSGML v1.0//EN
CALSCALE:GREGORIAN
METHOD:PUBLISH
X-WR-CALNAME:Kino Pobjeda Metković
X-ORIGINAL-URL:http://www.kinopobjeda.hr
X-WR-CALDESC:Events for Kino Pobjeda Metković
BEGIN:VEVENT
DTSTART;TZID=UTC+1:20200920T200000
DTEND;TZID=UTC+1:20200920T213000
DTSTAMP:20260421T124339
CREATED:20200916T074604Z
LAST-MODIFIED:20200916T080133Z
UID:3332-1600632000-1600637400@www.kinopobjeda.hr
SUMMARY:RAT U KUĆI
DESCRIPTION:\nU subotu\, 19. rujna u 20 sati u Kinu ‘Pobjeda’ održat će se projekcija filma ‘Rat u kući’ – fantastična obiteljska komedija za sve generacije\, redatelja Tima Hilla\, s neponovljivim Robert De Nirom u glavnoj ulozi djeda.\nDesetogodišnji Peter oduševljen je viješću da se njegov djed doseljava k njemu\, no njegovom uzbuđenju dolazi kraj kada shvati da se od njega očekuje da djedu prepusti svoju sobu\, dok bi on trebao spavati na jezivom tavanu. \nIako jako voli svog djeda\, Peter želi svoju sobu nazad i ne preostaje mu ništa drugo nego objaviti rat. Udružuje se s prijateljima te zajedno kuju opake planove protiv djeda\, kako bi ga natjerali da preda sobu. Ipak\, krv nije voda\, a uskoro postaje jasno da je Peter svoju tvrdoglavost i borbene gene naslijedio\, pogađate\, od djeda! Prava zabava za publiku tek počinje kada se djed se ne želi predati već odlučuje suprotstaviti se malim urotnicima\, smišljajući osvetu. \n  \n
URL:http://www.kinopobjeda.hr/raspored/rat-u-kuci/
CATEGORIES:komedija
END:VEVENT
END:VCALENDAR