BEGIN:VCALENDAR
VERSION:2.0
PRODID:-//Kino Pobjeda Metković - ECPv4.6.8//NONSGML v1.0//EN
CALSCALE:GREGORIAN
METHOD:PUBLISH
X-WR-CALNAME:Kino Pobjeda Metković
X-ORIGINAL-URL:http://www.kinopobjeda.hr
X-WR-CALDESC:Events for Kino Pobjeda Metković
BEGIN:VEVENT
DTSTART;TZID=UTC+1:20230311T193000
DTEND;TZID=UTC+1:20230311T213800
DTSTAMP:20260419T222135
CREATED:20230307T091933Z
LAST-MODIFIED:20230307T092546Z
UID:4759-1678563000-1678570680@www.kinopobjeda.hr
SUMMARY:Ona je rekla - Ženijalni dani - ULAZ SLOBODAN
DESCRIPTION:\nU Kinu ‘Pobjeda’ Metković u subotu\, 11. ožujka s početkom u 19:30 na rasporedu je drama ‘Ona je rekla’. Projekcija će se održati u sklopu programa ‘Ženijalni dani’\, a ulaz je SLOBODAN!\nOna je rekla (She Said) film je zasnovan na bestseleru New York Timesa “Ona je rekla: Kako je objavljivanje priče o seksualnom uznemiravanju rasplamsalo pokret”. \nCarey Mulligan i Zoe Kazan u ovom filmu glume novinarke New York Timesa\, Megan Twohey i Jodi Kantor. Priča koju su razotkrile pokrenula je pokret #Metoo te razbila desetljeća šutnje o temi seksualnih napada u Hollywoodu i zauvijek promijenila američku kulturu. \nProgramom ‘Ženijalni dan’ Kino Mreža od 8. do 12. ožujka deveti put zaredom slavi snagu i moć žena. Program Ženijalni dani u 27 kina diljem Hrvatske donosi pet nadahnjujućih filmskih ostvarenja koji slave žene\, ali – najvažnije – pokazuju njihovu snagu i značaj u društvu. \n  \n
URL:http://www.kinopobjeda.hr/raspored/rekla-zenijalni-dani-ulaz-slobodan/
CATEGORIES:15,drama
END:VEVENT
END:VCALENDAR