BEGIN:VCALENDAR
VERSION:2.0
PRODID:-//Kino Pobjeda Metković - ECPv4.6.8//NONSGML v1.0//EN
CALSCALE:GREGORIAN
METHOD:PUBLISH
X-WR-CALNAME:Kino Pobjeda Metković
X-ORIGINAL-URL:http://www.kinopobjeda.hr
X-WR-CALDESC:Events for Kino Pobjeda Metković
BEGIN:VEVENT
DTSTART;TZID=UTC+1:20210928T200000
DTEND;TZID=UTC+1:20210928T215100
DTSTAMP:20260419T161707
CREATED:20210926T150712Z
LAST-MODIFIED:20210926T150733Z
UID:4016-1632859200-1632865860@www.kinopobjeda.hr
SUMMARY:Rendez-vous au cinéma - 'Osam žena'
DESCRIPTION:\nI ove godine Kino ‘Pobjeda’ Metković uključeno je u Festival ‘Rendez-vous au cinéma’\, odnosno Mjesec francuskoga filma. \nPrva projekcija je film ‘Osam žena’\, a održat će se u utorak\, 28. rujna s početkom u 20 sati. \nRadi se o vrlo zabavnoj crnohumornoj komediji s elementima mjuzikla\, živih boja i luksuznih kostima\, koja je adaptacija kazališnog komada Roberta Thomasa. Jednoga jutra imućni je tvorničar pronađen mrtav u svojoj sobi. Osam žena\, koje se istodobno nađu na njegovom imanju\, njegove su potencijalne ubojice: njegova supruga Gaby\, kćeri Suzon i Catherine\, punica Mamy\, šogorica Augustine\, sestra Pierrette\, kuharica Chanel i sluškinja Louise.  Stvari postaju zamršene kada svaka od njih otkriva svoje tajne i do samog kraja ne može se ni pretpostaviti koja od njih je zapravo taj hladnokrvni ubojica. \nSvih je osam glumica\, za sjajan doprinos glumačkoj skupini filma\, osvojilo Srebrnog medvjeda na berlinskom festivalu. Ulaz na projekciju je slobodan! \n\n
URL:http://www.kinopobjeda.hr/raspored/rendez-vous-au-cinema-osam-zena/
CATEGORIES:komedija,kriminalistički
END:VEVENT
END:VCALENDAR