BEGIN:VCALENDAR
VERSION:2.0
PRODID:-//Kino Pobjeda Metković - ECPv4.6.8//NONSGML v1.0//EN
CALSCALE:GREGORIAN
METHOD:PUBLISH
X-WR-CALNAME:Kino Pobjeda Metković
X-ORIGINAL-URL:http://www.kinopobjeda.hr
X-WR-CALDESC:Events for Kino Pobjeda Metković
BEGIN:VEVENT
DTSTART;TZID=UTC+1:20181209T193000
DTEND;TZID=UTC+1:20181209T213000
DTSTAMP:20260422T232405
CREATED:20181203T134952Z
LAST-MODIFIED:20181203T135515Z
UID:2580-1544383800-1544391000@www.kinopobjeda.hr
SUMMARY:ROBIN HOOD
DESCRIPTION:\nIZVORNO IME: Robin Hood\nREDATELJ: Otto Bathurst | ŽANR: Akcijski\, avantura\nULOGE: Taron Egerton\, Jamie Foxx\, Ben Mendelsohn\, Eve Hewson\, Jamie Dornan\nTRAJANJE FILMA: 116 minuta | GODINA: 2018 | DRŽAVA: SAD | PLAKAT FILMA\nPOČETAK PRIKAZIVANJA: 9.12.2018 \nSADRŽAJ FILMA:\nNova verzija Robina Hooda će prikazati mlade dane poznatog pljačkaša i otkriti detalje koji su Robina (Egerton) potakli da se izvan zakona bori za malog čovjeka. Kao mladić pun ideala odlazi u križarski rat\, tamo doživljava samo razočaranja\, ali postaje iskusni ratnik. Po povratku ga oneraspoloži što je njegova zemlja zapala u korupciju\, čemu se mora suprotstaviti. Robin i njegov zapovjednik (Foxx) tada podižu bunu protiv korumpiranog kralja u ovoj uzbudljivoj akcijskoj avanturi prepunoj eksplozija\, ludih scena borbi te bezvremenske romantike. \n
URL:http://www.kinopobjeda.hr/raspored/robin-hood/
END:VEVENT
END:VCALENDAR