BEGIN:VCALENDAR
VERSION:2.0
PRODID:-//Kino Pobjeda Metković - ECPv4.6.8//NONSGML v1.0//EN
CALSCALE:GREGORIAN
METHOD:PUBLISH
X-WR-CALNAME:Kino Pobjeda Metković
X-ORIGINAL-URL:http://www.kinopobjeda.hr
X-WR-CALDESC:Events for Kino Pobjeda Metković
BEGIN:VEVENT
DTSTART;TZID=UTC+1:20230701T173000
DTEND;TZID=UTC+1:20230701T190000
DTSTAMP:20260421T042638
CREATED:20230627T082627Z
LAST-MODIFIED:20230627T082627Z
UID:4932-1688232600-1688238000@www.kinopobjeda.hr
SUMMARY:Ruby: Tinejdžerica Kraken
DESCRIPTION:\nU Kinu ‘Pobjeda’ Metković u subotu\, 1. srpnja s početkom u 17:30 na rasporedu je animirani film ‘Ruby: Tinejdžerica Kraken’\, sinkroniziran na hrvatski jezik.\nOvog ljeta DreamWorks Animation zaranja u turbulentne vode srednje škole s urnebesnom\, iskrenom akcijskom komedijom o sramežljivoj tinejdžerici koja otkriva da je dio legendarne kraljevske loze mitskih morskih krakena i da je njezina sudbina\, u dubinama oceana\, veća nego što je ikada sanjala. \nSlatka\, nespretna 16-godišnja Ruby Gillman očajnički se želi uklopiti u Oceanside High\, ali uglavnom se samo osjeća nevidljivo. Daje poduku iz matematike svojoj simpatiji skejteru koji joj se\, čini se\, divi samo zbog njene neobične kože\, a spriječena je da se druži s kul klincima na plaži zbog svoje previše zaštitnički nastrojene supermame\, koja je zabranila Ruby da kad ulazi u vodu. \nAli kada prekrši mamino pravilo br. 1\, Ruby će otkriti da je izravni potomak ratničkih kraljica Kraken i da joj je suđeno da naslijedi prijestolje od svoje bake zapovjednice\, kraljice ratnika Sedam mora. Krakeni su se zakleli da će štititi oceane svijeta od uzaludnih sirena željnih moći koje se stoljećima bore s Krakenima. Postoji jedan veliki i trenutni problem s tim: lijepa\, popularna nova djevojka u školi\, Chelsea slučajno je sirena. Ruby će naposljetku morati prigrliti ono što jest i učiniti sve kako bi zaštitila one koje najviše voli. \n  \n
URL:http://www.kinopobjeda.hr/raspored/ruby-tinejdzerica-kraken/
CATEGORIES:animirani,sinkronizirano
END:VEVENT
END:VCALENDAR