BEGIN:VCALENDAR
VERSION:2.0
PRODID:-//Kino Pobjeda Metković - ECPv4.6.8//NONSGML v1.0//EN
CALSCALE:GREGORIAN
METHOD:PUBLISH
X-WR-CALNAME:Kino Pobjeda Metković
X-ORIGINAL-URL:http://www.kinopobjeda.hr
X-WR-CALDESC:Events for Kino Pobjeda Metković
BEGIN:VEVENT
DTSTART;TZID=UTC+1:20200222T193000
DTEND;TZID=UTC+1:20200222T213000
DTSTAMP:20260422T041821
CREATED:20200218T092428Z
LAST-MODIFIED:20200218T094314Z
UID:3077-1582399800-1582407000@www.kinopobjeda.hr
SUMMARY:SASVIM OBIČNA LJUBAV
DESCRIPTION:\nSubota\, 22. veljače u 19:30 sati – SASVIM OBIČNA LJUBAV \nLjubavna priča starijeg bračnog para natjerat će vas na razmišljanje o onome što je u životu zaista važno\nJoan i Tom u braku su dugi niz godina. Njihov brak je skladan i sretan. Njihova sreća proizlazi iz zajedničkog života i punog ljubavi koja se iskazuje nježnošću i humorom. No\, kad je Joan neočekivano dijagnosticiran rak dojke\, tijek liječenja osvjetljava njihov odnos s obzirom na to da se suočavaju s izazovima koji stoje pred njima i neizvjesnošću što bi se moglo dogoditi ako se njoj nešto dogodi. \nOvaj film je priča o ljubavi\, preživljavanju i epskim pitanjima koja život postavlja svakome od nas – i posve je logično da nitko neće moći ostati ravnodušan. \n  \n \n
URL:http://www.kinopobjeda.hr/raspored/sasvim-obicna-ljubav/
CATEGORIES:horor
END:VEVENT
END:VCALENDAR