BEGIN:VCALENDAR
VERSION:2.0
PRODID:-//Kino Pobjeda Metković - ECPv4.6.8//NONSGML v1.0//EN
CALSCALE:GREGORIAN
METHOD:PUBLISH
X-WR-CALNAME:Kino Pobjeda Metković
X-ORIGINAL-URL:http://www.kinopobjeda.hr
X-WR-CALDESC:Events for Kino Pobjeda Metković
BEGIN:VEVENT
DTSTART;TZID=UTC+1:20180217T193000
DTEND;TZID=UTC+1:20180217T220000
DTSTAMP:20260423T015842
CREATED:20180212T091239Z
LAST-MODIFIED:20180212T091239Z
UID:2063-1518895800-1518904800@www.kinopobjeda.hr
SUMMARY:Sav novac svijeta
DESCRIPTION:\nOriginalni naslov: All The Money In The World\nDužina filma: 135 minuta\nDržava/Godina: USA/2018\nŽanr: triler\, biografski\, drama\nGlumci: Christopher Plummer\, Mark Wahlberg\, Michelle Williams\, Charlie Plummer\nRedatelj: Ridley Scott \nRidley Scott nam donosi istinitu priču o naftnom tajkunu J. Paulu Gettyju (Christopher Plummer) koji je pregovarao za život svojeg unuka\, škrto se držeći za svaki cent. Priča prati 16-godišnjeg Johna Paula Gettyja III (Charlie Plummer) koji je otet\, a njegova majka Gail (Michelle Williams) pokušava uvjeriti njegovog djeda\, milijardera Gettyja (Christopher Plummer)\, ujedno najbogatijeg čovjeka na svijetu\, da plati otkupninu. Kad stari Getty odbije\, otmičari postanu brutalni. U utrci između života i smrti\, pitanje je hoće li prevladati ljubav prema unuku ili prema novcu? \n \n
URL:http://www.kinopobjeda.hr/raspored/sav-novac-svijeta/
CATEGORIES:biografija,drama,triler
END:VEVENT
END:VCALENDAR