BEGIN:VCALENDAR
VERSION:2.0
PRODID:-//Kino Pobjeda Metković - ECPv4.6.8//NONSGML v1.0//EN
CALSCALE:GREGORIAN
METHOD:PUBLISH
X-WR-CALNAME:Kino Pobjeda Metković
X-ORIGINAL-URL:http://www.kinopobjeda.hr
X-WR-CALDESC:Events for Kino Pobjeda Metković
BEGIN:VEVENT
DTSTART;TZID=UTC+1:20190208T193000
DTEND;TZID=UTC+1:20190208T213000
DTSTAMP:20260422T170514
CREATED:20190205T115042Z
LAST-MODIFIED:20190205T120305Z
UID:2700-1549654200-1549661400@www.kinopobjeda.hr
SUMMARY:SERENITY
DESCRIPTION:\nveljače u 19:30\n\n  \nSERENITY \nGlumci: Matthew McConaughey\, Anne Hathaway\, Diane Lane\, Jason Clarke\, Djimon Hounsou \nRežija: Steven Knight \nScenarij: Steven Knight \nZemlja porijekla: SAD \nProducenti: Alastair Burlingham\, Andreas Habermeyer\, Guy Heeley\, David Lipman\, Carsten H.W. Lorenz\, Karine Martin \nŽanr: Drama\, triler \nTrajanje filma: 98 minuta \n  \nMa koliko bježao\, od vlastite je prošlosti nemoguće pobjeći \nU dramatičnom trileru SERENITY za koji režiju i scenarij potpisuje Steven Knight\, naočiti Matthew McConaughey tumači kapetana ribarskog broda koji živi prividno spokojnim životom na malom otoku na Karibima. Uskoro ga sustižu mračne sjene njegove misteriozne prošlosti i on biva ovijen velom zablude\, vjerujući u stvarnost u kojoj možda i nije sve onako kakvim se čini. \n  \n\n  \n
URL:http://www.kinopobjeda.hr/raspored/serenity/
END:VEVENT
END:VCALENDAR