BEGIN:VCALENDAR
VERSION:2.0
PRODID:-//Kino Pobjeda Metković - ECPv4.6.8//NONSGML v1.0//EN
CALSCALE:GREGORIAN
METHOD:PUBLISH
X-WR-CALNAME:Kino Pobjeda Metković
X-ORIGINAL-URL:http://www.kinopobjeda.hr
X-WR-CALDESC:Events for Kino Pobjeda Metković
BEGIN:VEVENT
DTSTART;TZID=UTC+1:20221117T193000
DTEND;TZID=UTC+1:20221117T211500
DTSTAMP:20260419T221636
CREATED:20221114T085245Z
LAST-MODIFIED:20221114T085245Z
UID:4593-1668713400-1668719700@www.kinopobjeda.hr
SUMMARY:Šesti autobus
DESCRIPTION:\n  \nUoči Dana sjećanja na žrtve Domovinskog rata i Dana sjećanja na žrtvu Vukovara i Škabrnje Kino ‘Pobjeda’ Metković donosi film ‘Šesti autobus’\, a na rasporedu je u četvrtak\, 17. studenoga u 19:30.\nOva potresna drama o padu Vukovara svoje uporište ima u istinitoj priči o tzv. šestom autobusu kojim su zarobljeni branitelji i ranjenici odvezeni iz Vukovarske bolnice\, a čija sudbina nije poznata ni nakon više od 30 godina. “Šesti autobus” je film o mladoj ženi koja pokušava saznati gdje\, kako i zašto je muškarac iz njezine prošlosti umro tijekom rata koji je zaprepastio Europu i svijet\, rata u Vukovaru. \nFilm je o ljudima čija je sudbina i dalje nepoznata\, o potrazi za identitetom\, za vjerom\, povezivanju i otkupu. Potraga za istinom na mjestu gdje je istina selektivna\, neuhvatljiva pa čak i zastrašujuća. Finalno je film o buđenju i slobodi\, koji se temelji na izvorima prikupljanim više od 10 godina. \nGlumačku ekipu filma Eduarda Galića predvode Marko Petrić i Zala Djuric\, uz Radu Vulina\, Živka Anočića\, Pavla Matuškog i Ozrena Grabarića\, a tu su i Arnaud Humbert\, Goran Vrbanić\, Josipa Anković\, Ivica Lučić\, Ermin Sijamija\, Muhamed Hadžović\, Toni Gojanovic\, Dusan Kovacevic\, Matija Prskalo\, Aleksandra Balmazovic\, Alban Ukay\, Radoslav Milenković te Borko Perić. \n  \n
URL:http://www.kinopobjeda.hr/raspored/sesti-autobus/
CATEGORIES:15,drama,ratni
END:VEVENT
END:VCALENDAR