BEGIN:VCALENDAR
VERSION:2.0
PRODID:-//Kino Pobjeda Metković - ECPv4.6.8//NONSGML v1.0//EN
CALSCALE:GREGORIAN
METHOD:PUBLISH
X-WR-CALNAME:Kino Pobjeda Metković
X-ORIGINAL-URL:http://www.kinopobjeda.hr
X-WR-CALDESC:Events for Kino Pobjeda Metković
BEGIN:VEVENT
DTSTART;TZID=UTC+1:20220811T200000
DTEND;TZID=UTC+1:20220811T210900
DTSTAMP:20260420T045845
CREATED:20220808T074425Z
LAST-MODIFIED:20220808T074425Z
UID:4486-1660248000-1660252140@www.kinopobjeda.hr
SUMMARY:Siroče: prvo ubojstvo
DESCRIPTION:\n  \nU Kinu ‘Pobjeda’ Metković u četvrtak\, 11. kolovoza s početkom u 20 sati na rasporedu je film ‘Siroče: prvo ubojstvo’ – nastavak kultnoga američkoga horora iz 2009.\n‘Siroče: Prvo ubojstvo’ zamišljen je kao prequel originalnog filma te će publici pružiti uvid u mračnu povijest Leene Klammer “Esther” i u njezino prvo ubojstvo. \nPrvi film govori o Estherinom prijašnjem životu – obitelj s kojom živi nije prva obitelj koja ju je posvojila\, a znamo i da je pobjegla iz psihijatrijske ustanove. Međutim\, novi nastavak Siroče: Prvo ubojstvo priča o tome kako je Leena uspjela pobjeći iz Estonije u Sjedinjene Države. \nLeena Klammer je žena koja pati od hipopituitarizma\, zbog čega izgleda mlađe. Predstavljala se kao “Esther”\, nestala kći Katie Mauerove i Richarda Mauerova. Katie je uvjerena da to nije njezina kći\, dok Richard vjeruje da njegova žena pati od paranoje. Leena ih pokušava razdvojiti stvarajući velike probleme obitelji i sukobljava se s majkom koja će zaštititi svoju obitelj pod svaku cijenu. \n
URL:http://www.kinopobjeda.hr/raspored/siroce-prvo-ubojstvo/
CATEGORIES:15,horor
END:VEVENT
END:VCALENDAR