BEGIN:VCALENDAR
VERSION:2.0
PRODID:-//Kino Pobjeda Metković - ECPv4.6.8//NONSGML v1.0//EN
CALSCALE:GREGORIAN
METHOD:PUBLISH
X-WR-CALNAME:Kino Pobjeda Metković
X-ORIGINAL-URL:http://www.kinopobjeda.hr
X-WR-CALDESC:Events for Kino Pobjeda Metković
BEGIN:VEVENT
DTSTART;TZID=UTC+1:20220514T200000
DTEND;TZID=UTC+1:20220514T215400
DTSTAMP:20260420T100114
CREATED:20220509T102531Z
LAST-MODIFIED:20220509T102531Z
UID:4402-1652558400-1652565240@www.kinopobjeda.hr
SUMMARY:Sjećanja ubojice
DESCRIPTION:\nU Kinu ‘Pobjeda’ Metković u subotu\, 14. svibnja u 20 sati na rasporedu je akcijski triler ‘Sjećanja ubojice’ s Liamom Neesonom i Monicom Bellucci u glavnim ulogama.\nAlex Lewis je plaćeni ubojica kojeg prati savršena reputacija i preciznost. Kad se nađe u velikoj dilemi on će odbiti dovršiti posao koji krši njegov moralni kodeks\, što se naravno neće svidjeti njegovim poslodavcima. Alex potom kreće u opasnu i smrtonosnu potragu za naručiteljima ubojstva prije nego ga oni sami\, ali i FBI agent Vincent Serra pronađu. Istovremeno\, u bijegu od kriminalaca i agenata\, Alex se bori s gubitkom pamćenja što uvelike utječe na njegove odluke i onemogućava mu da posao dovrši do kraja. Kako mu sjećanja blijede\, a neprijatelji mu se približavaju\, Alex će morati preispitati svaki svoj korak i odlučiti kome može vjerovati. \n  \n
URL:http://www.kinopobjeda.hr/raspored/sjecanja-ubojice/
CATEGORIES:15,akcija,triler
END:VEVENT
END:VCALENDAR