BEGIN:VCALENDAR
VERSION:2.0
PRODID:-//Kino Pobjeda Metković - ECPv4.6.8//NONSGML v1.0//EN
CALSCALE:GREGORIAN
METHOD:PUBLISH
X-WR-CALNAME:Kino Pobjeda Metković
X-ORIGINAL-URL:http://www.kinopobjeda.hr
X-WR-CALDESC:Events for Kino Pobjeda Metković
BEGIN:VEVENT
DTSTART;TZID=UTC+1:20211012T200000
DTEND;TZID=UTC+1:20211012T215800
DTSTAMP:20260419T173459
CREATED:20211006T082932Z
LAST-MODIFIED:20211006T082932Z
UID:4057-1634068800-1634075880@www.kinopobjeda.hr
SUMMARY:Skafander i leptir
DESCRIPTION:\n  \nU sklopu programa ‘Rendez-vous au cinéma’ u Kinu ‘Pobjeda’ Metković u utorak\, 12. listopada s početkom u 20 sati održat će se projekcija filma ‘Skafander i leptir’ – biografska drama o uspješnom i karizmatičnom glavnom uredniku francuskog magazina ‘Elle’.\nSredovječni Jean-Dominique Bauby zvan Jean-Do glavni je  urednik glasovitog francuskog magazina ‘Elle’\, čovjek koji živi punim plućima. On je bogataš kojem će iznenadni moždani udar naglo i u potpunosti promijeniti život te ga vezati za krevet bez mogućnosti govora i pokretanja bilo kojeg mišića. Unatoč prilično optimistične početne prognoze jednog neurologa\, teška nova situacija gotovo potpune paralize za Baubyja će predstavljati svojevrsno „ronilačko zvono“\, ono u kojem može misliti ali ne i govoriti\, iako će mu se činiti da govori\, ali ga drugi ne čuju. Dok mu logoped i fizioterapeut budu pokušavali pomoći da bude što funkcionalniji\, Bauby će razviti sustav komunikacije s njima trepćući lijevim okom. No\, ostat će mu i praktički bezgranična mašta i njegova sjećanja. Zahvaljujući netaknutom umu prekaljenog novinskog urednika Bauby će\, uz pomoć koda koji predstavlja slova abecede\, ostvariti ne samo vezu sa svijetom oko sebe\, nego i početi pisati memoare. \nFilm je osvojio nekoliko nagrada na Canneskom filmskom festivalu\, Zlatne globuse\, nagrade César\, i BAFTA\, a bio je nominiran i za četiri Oscara. \nUlaz je slobodan! \n  \n
URL:http://www.kinopobjeda.hr/raspored/skafander-i-leptir/
CATEGORIES:biografija,drama
END:VEVENT
END:VCALENDAR