BEGIN:VCALENDAR
VERSION:2.0
PRODID:-//Kino Pobjeda Metković - ECPv4.6.8//NONSGML v1.0//EN
CALSCALE:GREGORIAN
METHOD:PUBLISH
X-WR-CALNAME:Kino Pobjeda Metković
X-ORIGINAL-URL:http://www.kinopobjeda.hr
X-WR-CALDESC:Events for Kino Pobjeda Metković
BEGIN:VEVENT
DTSTART;TZID=UTC+1:20231006T200000
DTEND;TZID=UTC+1:20231006T215800
DTSTAMP:20260419T132325
CREATED:20231003T063404Z
LAST-MODIFIED:20231003T063404Z
UID:5021-1696622400-1696629480@www.kinopobjeda.hr
SUMMARY:Slagalica strave X
DESCRIPTION:\nU Kinu ‘Pobjeda’ Metković u petak\, 6. listopada s početkom u 20 sati na rasporedu je horor ‘Slagalica strave X’.\nKultni i jedan od najpopularnijih horor serijala se vraća na filmska platna. Najuzbudljiviji i duboko uznemirujući nastavak SAW franšize istražuje nepoznato poglavlje Jigsawove najosobnije igre. John Kramer (Tobin Bell) se vratio. \nRadnja je smještena između događaja iz Spirale straha I i II\, bolesni i očajni John putuje u Meksiko na rizičan i eksperimentalan medicinski postupak u nadi da će pronaći čudo za izlječenje svoje bolesti – no otkriva da je cijela operacija prevara namijenjena iskorištavanju najugroženijih. S novim ciljem\, zloglasni serijski ubojica vraća se svom zanatu\, boreći se protiv prevaranata na svoj prepoznatljiv način kroz podmukle\, poremećene i lukave zamke. \n
URL:http://www.kinopobjeda.hr/raspored/slagalica-strave-x/
CATEGORIES:15,horor,misterija,triler
END:VEVENT
END:VCALENDAR