BEGIN:VCALENDAR
VERSION:2.0
PRODID:-//Kino Pobjeda Metković - ECPv4.6.8//NONSGML v1.0//EN
CALSCALE:GREGORIAN
METHOD:PUBLISH
X-WR-CALNAME:Kino Pobjeda Metković
X-ORIGINAL-URL:http://www.kinopobjeda.hr
X-WR-CALDESC:Events for Kino Pobjeda Metković
BEGIN:VEVENT
DTSTART;TZID=UTC+1:20180427T200000
DTEND;TZID=UTC+1:20180427T220000
DTSTAMP:20260423T113128
CREATED:20180424T113319Z
LAST-MODIFIED:20180424T113319Z
UID:2255-1524859200-1524866400@www.kinopobjeda.hr
SUMMARY:SLUČAJ IZ ZEMLJE DUHOVA
DESCRIPTION:\nSLUČAJ IZ ZEMLJE DUHOVA \nIZVORNO IME: Incident in a Ghost Land \nREDATELJ: Pascal Laugier  |  ŽANR: horor \nULOGE: Rob Archer\, Erik Athavale\, Paolo Bryant \nTRAJANJE FILMA: 91 minuta  |  GODINA: 2018  |  DRŽAVA: Francuska  |  PLAKAT FILMA \nPOČETAK PRIKAZIVANJA: 19.04.2018 \n\nSADRŽAJ FILMA: \nFilm prati život majke dvoje djece koja je naslijedila dom od svoje tete. Već prve noći u novoj kući majka se suočava s ubojitim uljezima i bori se za živote svojih kćeri. Šesnaest godina kasnije kada se kćeri opet okupe u toj kući tek tada stvari postanu još više čudne. \n \n\n
URL:http://www.kinopobjeda.hr/raspored/slucaj-iz-zemlje-duhova/
CATEGORIES:horor
END:VEVENT
END:VCALENDAR