BEGIN:VCALENDAR
VERSION:2.0
PRODID:-//Kino Pobjeda Metković - ECPv4.6.8//NONSGML v1.0//EN
CALSCALE:GREGORIAN
METHOD:PUBLISH
X-WR-CALNAME:Kino Pobjeda Metković
X-ORIGINAL-URL:http://www.kinopobjeda.hr
X-WR-CALDESC:Events for Kino Pobjeda Metković
BEGIN:VEVENT
DTSTART;TZID=UTC+1:20211003T200000
DTEND;TZID=UTC+1:20211003T225300
DTSTAMP:20260419T173934
CREATED:20210928T074628Z
LAST-MODIFIED:20210928T074628Z
UID:4031-1633291200-1633301580@www.kinopobjeda.hr
SUMMARY:'Za smrt nema vremena' - nedjelja
DESCRIPTION:\nDugo iščekivani novi nastavak o najpoznatijem tajnom agentu ‘Za smrt nema vremena’ napokon je stigao u kina\, a projekcije u Kinu ‘Pobjeda’ održat će se u subotu\, 2. listopada u 20 sati te u nedjelju\, 3. listopada u 20 sati.\nKarizmatičnog agenta britanske tajne službe MI6\, kodnog naziva 007\, portretirat će Daniel Craig\, što će mu biti peta uloga tajnog agenta. Bond je napustio aktivnu službu no njegova „mirovina“ je kratkog vijeka. Dugogodišnji prijatelj iz CIA-e Felix Leiter od njega traži pomoć u borbi protiv misterioznog zločinca naoružanog opasnom novom tehnologijom. \nSnimanje novog filma odvijalo se na lokacijama u Londonu\, Italiji\, Jamajci te Norveškoj. Producenti filma izrazili su svoje zadovoljstvo činjenicom da se Bond vraća na Jamajku\, na mjesto na kojem je Fleming stvorio legendarnog agenta. \n\n
URL:http://www.kinopobjeda.hr/raspored/smrt-nema-vremena-nedjelja/
CATEGORIES:12,akcija
END:VEVENT
END:VCALENDAR