BEGIN:VCALENDAR
VERSION:2.0
PRODID:-//Kino Pobjeda Metković - ECPv4.6.8//NONSGML v1.0//EN
CALSCALE:GREGORIAN
METHOD:PUBLISH
X-WR-CALNAME:Kino Pobjeda Metković
X-ORIGINAL-URL:http://www.kinopobjeda.hr
X-WR-CALDESC:Events for Kino Pobjeda Metković
BEGIN:VEVENT
DTSTART;TZID=UTC+1:20181222T193000
DTEND;TZID=UTC+1:20181222T213000
DTSTAMP:20260423T003401
CREATED:20181218T115726Z
LAST-MODIFIED:20181218T115848Z
UID:2589-1545507000-1545514200@www.kinopobjeda.hr
SUMMARY:SMRTONOSNI STROJEVI
DESCRIPTION:\nIZVORNO IME: Mortal Engines\nREDATELJ: Christian Rivers | ŽANR: epska avantura\nULOGE: Hugo Weaving\, Hera Hilmar\, Robert Sheehan\, Jihae\, Ronan Raftery\nTRAJANJE FILMA: 128 minuta | GODINA: 2018 | DRŽAVA: Novi Zeland\, SAD | PLAKAT FILMA\nPOČETAK PRIKAZIVANJA: 13.12.2018 \n  \nU subotu 22.prosinca s početkom u 19:30 sati nam dolazi proslavljeni redatelj ‘Gospodara Prstenova’ i ‘Hobita’\, Peter Jackson koji se vraća na velika platna ovog puta kao scenarist\, na autorskom zadatku udružen sa suprugom Fran Walsh te Philippom Boyens. \nTisuće godina nakon što su kataklizmički događaji izbrisali civilizaciju kakvu danas poznajemo\, čovječanstvo se prilagodilo novonastalim uvjetima i razvio se novi način života. Gigantski mobilni gradovi sada haraju Zemljom u obliku smrtonosnih strojeva i gospodare manjim naseljima\, osvajajući predio po predio. Tom Natsworthy (Robert Sheehan)\, iz londonskog Lower Tier-a\, uslijed susreta s opasnim bjeguncem Hesterom Shawom (Hera Hilmar)\, nalazi se u borbi za vlastiti opstanak. Neočekivani dvojac čiji se putevi nikada nisu trebali sresti\, spoj je potpunih suprotnosti koje čine nevjerojatan savez\, predodređen da promjeni tijek budućnosti. \n\nSmrtonosni strojevi zapanjujuća je nova epska avantura\, nastala u režiji majstora specijalnih efekata\, Oscarovca Christiana Riversa (King Kong)\, a prema istoimenoj\, nagrađivanoj književnoj sagi iz 2001.\, pisca Philipa Reevea. U producentskom timu\, uz izvršne producente Boyensa i Kena Kaminsa (Hobit trilogija)\, i druga su poznata imena poput Zanea Weinera (Hobit trilogija)\, Amande Walker (Hobit trilogija)\, Deborah Forte (Goosebumps)\, te Walsha i Jacksona. \nVjerujemo da su obožavatelji epske avanture napokon došli na svoje. \n\n
URL:http://www.kinopobjeda.hr/raspored/smrtonosni-strojevi/
ATTACH;FMTTYPE=image/jpeg:http://www.kinopobjeda.hr/wp-content/uploads/2018/12/MV5BYWQ2NDIzZGMtNTUwMS00MGRiLWFiMzQtOWZjNzJhODVjZjQyXkEyXkFqcGdeQXVyNTc5OTMwOTQ@._V1_.jpg
END:VEVENT
END:VCALENDAR