BEGIN:VCALENDAR
VERSION:2.0
PRODID:-//Kino Pobjeda Metković - ECPv4.6.8//NONSGML v1.0//EN
CALSCALE:GREGORIAN
METHOD:PUBLISH
X-WR-CALNAME:Kino Pobjeda Metković
X-ORIGINAL-URL:http://www.kinopobjeda.hr
X-WR-CALDESC:Events for Kino Pobjeda Metković
BEGIN:VEVENT
DTSTART;TZID=UTC+1:20191124T170000
DTEND;TZID=UTC+1:20191124T183000
DTSTAMP:20260422T015427
CREATED:20191121T114939Z
LAST-MODIFIED:20191121T114939Z
UID:2973-1574614800-1574620200@www.kinopobjeda.hr
SUMMARY:SNJEŽNO KRALJEVSTVO II-SINK
DESCRIPTION:\nIZVORNO IME: Frozen II\nREDATELJ: Chris Buck\, Jennifer Lee | ŽANR: animirani\nULOGE: Sementa Rajhard\, Kristina Krepela\, Ronald Žlabur\, Andrej Dojkić\, Goran Grgić\, Maja Posavec\, Boris Svrtan\nTRAJANJE FILMA: 104 minuta | GODINA: 2019 | DRŽAVA: SAD | PLAKAT FILMA\nPOČETAK PRIKAZIVANJA: 21.11.2019\nHIGHLIGHTS: Samo u CineStar kinima\, poklon uz kupljenu RealD 3D ulaznicu! Vrijedi do isteka zaliha. \nSADRŽAJ FILMA:\nZašto I kako je Elsa rođena s čarobnim moćima? Odgovor na ovo pitanje progoni junakinju Snježnog kraljevstva i prijeti njenom domu. Zajedno sa sestrom Anom\, Kristofom i Olafom započinje opasno ali izvanredno putovanje. U prvom nastavku Snježnog kraljevstva Elsa se pribojavala jesu li njene moći prejake za ovaj svijet\, a u novom nastavku filma nada se da su one dovoljne. \n \n
URL:http://www.kinopobjeda.hr/raspored/snjezno-kraljevstvo-ii-sink/
CATEGORIES:animirani,sinkronizirano
END:VEVENT
END:VCALENDAR