BEGIN:VCALENDAR
VERSION:2.0
PRODID:-//Kino Pobjeda Metković - ECPv4.6.8//NONSGML v1.0//EN
CALSCALE:GREGORIAN
METHOD:PUBLISH
X-WR-CALNAME:Kino Pobjeda Metković
X-ORIGINAL-URL:http://www.kinopobjeda.hr
X-WR-CALDESC:Events for Kino Pobjeda Metković
BEGIN:VEVENT
DTSTART;TZID=UTC+1:20180603T200000
DTEND;TZID=UTC+1:20180603T223000
DTSTAMP:20260424T035114
CREATED:20180531T222847Z
LAST-MODIFIED:20180601T134357Z
UID:2338-1528056000-1528065000@www.kinopobjeda.hr
SUMMARY:SOLO: PRIČA IZ RATOVA ZVIJEZDA
DESCRIPTION:\nSOLO: PRIČA IZ RATOVA ZVIJEZDA \nREDATELJ: Ron Howard  |  ŽANR: akcijski\, SF \nULOGE: Alden Ehrenreich\, Emilia Clarke\, Donald Glover\, Woody Harrelson \nTRAJANJE FILMA: 135 minuta  |  GODINA: 2018  |  DRŽAVA: SAD  |  PLAKAT FILMA \nPOČETAK PRIKAZIVANJA: 31.05.2018 \n  \nSADRŽAJ FILMA: \nTijekom avanture u mračnom podzemnom svijetu punom kriminala\, Han Solo upoznaje svog budućeg kopilota Chewbaccu i susreće se s Landom Calrissianom godinama prije pridruživanja Pobunjenicima. \n \n
URL:http://www.kinopobjeda.hr/raspored/solo-prica-iz-ratova-zvijezda/
CATEGORIES:akcija,znanstveno-fantastični
END:VEVENT
END:VCALENDAR