BEGIN:VCALENDAR
VERSION:2.0
PRODID:-//Kino Pobjeda Metković - ECPv4.6.8//NONSGML v1.0//EN
CALSCALE:GREGORIAN
METHOD:PUBLISH
X-WR-CALNAME:Kino Pobjeda Metković
X-ORIGINAL-URL:http://www.kinopobjeda.hr
X-WR-CALDESC:Events for Kino Pobjeda Metković
BEGIN:VEVENT
DTSTART;TZID=UTC+1:20220402T170000
DTEND;TZID=UTC+1:20220402T190200
DTSTAMP:20260420T133519
CREATED:20220328T095805Z
LAST-MODIFIED:20220328T095805Z
UID:4337-1648918800-1648926120@www.kinopobjeda.hr
SUMMARY:‘Sonic 2 – Super jež’
DESCRIPTION:\nOmiljeni superbrzi plavi jež se vraća u novoj\, još većoj avanturi! Film ‘Sonic 2 – Super jež’\, sinkroniziran na hrvatski jezik \, u Kinu Pobjeda Metković na rasporedu je u subotu\, 2. travnja u 17 sati. \nNakon što se smjestio u Green Hills\, Sonic je odlučan pokazati svima da ima sve kvalitete pravog junaka. Njegov test počinje u trenutku kada se vrati Dr. Robotnik\, ovoga puta s novim partnerom – Knucklesom\, u potrazi za smaragdom koji ima moć stvoriti i uništiti civilizacije. Sonic će se udružiti s Tailsom pa će njih dvojica krenuti u avanturu tijekom koje moraju pronaći smaragd prije nego što padne u krive ruke. \n\n
URL:http://www.kinopobjeda.hr/raspored/sonic-2-super-jez/
CATEGORIES:avantura,obiteljski zabavni,sinkronizirano
END:VEVENT
END:VCALENDAR