BEGIN:VCALENDAR
VERSION:2.0
PRODID:-//Kino Pobjeda Metković - ECPv4.6.8//NONSGML v1.0//EN
CALSCALE:GREGORIAN
METHOD:PUBLISH
X-WR-CALNAME:Kino Pobjeda Metković
X-ORIGINAL-URL:http://www.kinopobjeda.hr
X-WR-CALDESC:Events for Kino Pobjeda Metković
BEGIN:VEVENT
DTSTART;TZID=UTC+1:20210715T203000
DTEND;TZID=UTC+1:20210715T223000
DTSTAMP:20260421T000343
CREATED:20210713T094525Z
LAST-MODIFIED:20210713T094525Z
UID:3940-1626381000-1626388200@www.kinopobjeda.hr
SUMMARY:Space Jam: Nova legenda - TITL
DESCRIPTION:\nU Kinu ‘Pobjeda’ Metković u četvrtak\, 15. srpnja u 20:30 na rasporedu je igrano-animirana avantura ‘Space Jam: Nova legenda’ u kojoj NBA prvak i globalna ikona LeBron James kreće u epsku avanturu zajedno s bezvremenskim Looney Tunes likovima.\nOvo transformacijsko putovanje otkriva koliko će daleko neki roditelji ići kako bi se povezali sa svojom djecom. LeBron i njegov sin Dom zarobljeni su u digitalnom prostoru i LeBron ih mora odvesti kući na sigurno\,  vodeći  sa sobom i Bugsa\, Lolu i cijelu bandu notorno nediscipliniranih Looneyja Tunesa. U filmu se pojavljuju i mnoge profesionalne košarkaške zvijezde u ulogama u kojima ih do sada niste mogli vidjeti. \n\n
URL:http://www.kinopobjeda.hr/raspored/space-jam-nova-legenda-titl/
CATEGORIES:akcija,animirani
END:VEVENT
END:VCALENDAR