BEGIN:VCALENDAR
VERSION:2.0
PRODID:-//Kino Pobjeda Metković - ECPv4.6.8//NONSGML v1.0//EN
CALSCALE:GREGORIAN
METHOD:PUBLISH
X-WR-CALNAME:Kino Pobjeda Metković
X-ORIGINAL-URL:http://www.kinopobjeda.hr
X-WR-CALDESC:Events for Kino Pobjeda Metković
BEGIN:VEVENT
DTSTART;TZID=UTC+1:20211217T193000
DTEND;TZID=UTC+1:20211217T220000
DTSTAMP:20260420T185153
CREATED:20211214T102113Z
LAST-MODIFIED:20211214T102113Z
UID:4176-1639769400-1639778400@www.kinopobjeda.hr
SUMMARY:Spider-man: Put bez povratka
DESCRIPTION:\nU Kinu ‘Pobjeda’ Metković u petak\, 17. prosinca u 19:30 na rasporedu je novi ‘Spider-man: Put bez povratka’.\nPrvi put u povijesti Spider-Mana identitet našeg prijateljskog heroja iz susjedstva je otkriven i on više nije u stanju odvojiti svoj normalan život od visokih rizika superheroja. Kad zatraži pomoć doktora Strangea\, ulozi postaju još veći\, prisiljavajući ga da otkrije što uistinu znači biti Spider-Man. \nZa ulazak u Kino ‘Pobjeda’ Metković potrebno je predočiti EU digitalnu COVID potvrdu\, potvrdu o preboljenju koronavirusa ili negativan test na koronavirus. Iznimka su djeca mlađa od 16 godina\, osobe koje prate osobu koja se ne može brinuti o sebi te osobe kod kojih postoje kontraindikacije za cijepljenje ili za dovršetak cijepljenja\, a što se dokazuje liječničkom potvrdom. \n  \n
URL:http://www.kinopobjeda.hr/raspored/spider-man-put-bez-povratka/
CATEGORIES:12,akcija,avantura
END:VEVENT
END:VCALENDAR