BEGIN:VCALENDAR
VERSION:2.0
PRODID:-//Kino Pobjeda Metković - ECPv4.6.8//NONSGML v1.0//EN
CALSCALE:GREGORIAN
METHOD:PUBLISH
X-WR-CALNAME:Kino Pobjeda Metković
X-ORIGINAL-URL:http://www.kinopobjeda.hr
X-WR-CALDESC:Events for Kino Pobjeda Metković
BEGIN:VEVENT
DTSTART;TZID=UTC+1:20230610T173000
DTEND;TZID=UTC+1:20230610T194000
DTSTAMP:20260419T211111
CREATED:20230605T090905Z
LAST-MODIFIED:20230605T090905Z
UID:4893-1686418200-1686426000@www.kinopobjeda.hr
SUMMARY:Spider-man: Putovanje kroz Spider-svijet
DESCRIPTION:\nU Kinu ‘Pobjeda’ Metković u subotu\, 10. lipnja s početkom u 17:30 na rasporedu je animirani film ‘Spider-man: Putovanje u Spider-svijet’\, sinkroniziran na hrvatski jezik.\nMiles Morales vraća se za sljedeće poglavlje Oscarom nagrađivane Spider-svijet sage. Nakon ponovnog ujedinjenja s Gwen Stacy\, Brooklynov prijateljski nastrojeni Spider-Man iz susjedstva katapultira se preko Multiverzuma\, gdje susreće tim Spider-ljudi zaduženih za zaštitu njegovog postojanja. Ali kada se heroji sukobe oko toga kako se nositi s novom prijetnjom\, Miles se nađe suprotstavljen drugim Spiderima i mora redefinirati što znači biti heroj kako bi mogao spasiti ljude koje najviše voli. \n  \n
URL:http://www.kinopobjeda.hr/raspored/spider-man-putovanje-spider-svijet/
CATEGORIES:animirani,sinkronizirano
END:VEVENT
END:VCALENDAR