BEGIN:VCALENDAR
VERSION:2.0
PRODID:-//Kino Pobjeda Metković - ECPv4.6.8//NONSGML v1.0//EN
CALSCALE:GREGORIAN
METHOD:PUBLISH
X-WR-CALNAME:Kino Pobjeda Metković
X-ORIGINAL-URL:http://www.kinopobjeda.hr
X-WR-CALDESC:Events for Kino Pobjeda Metković
BEGIN:VEVENT
DTSTART;TZID=UTC+1:20201003T200000
DTEND;TZID=UTC+1:20201003T213000
DTSTAMP:20260421T113725
CREATED:20200929T064938Z
LAST-MODIFIED:20200929T065729Z
UID:3378-1601755200-1601760600@www.kinopobjeda.hr
SUMMARY:Stepinac: kardinal i njegova savjest
DESCRIPTION:\nU Kinu ‘Pobjeda’ Metković u subotu\, 3. listopada u 20 sati održat će se projekcija dokumentarnoga filma ‘Stepinac: kardinal i njegova savjest’.\nPriča je to o životu Alojzija Stepinca\, o tome kako se kao čovjek i zagrebački nadbiskup nosio s  najvećim izazovima 20. stoljeća\, o globalnom i univerzalnom značaju njegova djela\, o korijenu kontroverzi koje ga prate do današnjih dana\, o relevantnosti njegova primjera i univerzalnosti njegovih poruka u današnjem vremenu. To je ujedno i priča o hrvatskoj i europskoj povijesti 20. stoljeća\, kao neizostavnom kontekstu djelovanja. \n  \n
URL:http://www.kinopobjeda.hr/raspored/stepinac-kardinal-i-njegova-savjest/
CATEGORIES:12,dokumentarni
END:VEVENT
END:VCALENDAR