BEGIN:VCALENDAR
VERSION:2.0
PRODID:-//Kino Pobjeda Metković - ECPv4.6.8//NONSGML v1.0//EN
CALSCALE:GREGORIAN
METHOD:PUBLISH
X-WR-CALNAME:Kino Pobjeda Metković
X-ORIGINAL-URL:http://www.kinopobjeda.hr
X-WR-CALDESC:Events for Kino Pobjeda Metković
BEGIN:VEVENT
DTSTART;TZID=UTC+1:20181116T193000
DTEND;TZID=UTC+1:20181116T213000
DTSTAMP:20260422T183339
CREATED:20181115T090339Z
LAST-MODIFIED:20181115T090339Z
UID:2526-1542396600-1542403800@www.kinopobjeda.hr
SUMMARY:ŠTO NAS NE UBIJE
DESCRIPTION:\nIZVORNO IME: The Girl in the Spiders Web\nREDATELJ: Fede Alvarez | ŽANR: kriminalistički\, drama\, triler\nULOGE: Claire Foy\, Lakeith Stanfield\, Sylvia Hoeks\nTRAJANJE FILMA: 115 minuta | GODINA: 2018 | DRŽAVA: SAD | PLAKAT FILMA\nPOČETAK PRIKAZIVANJA: 16.11.2018 \nSADRŽAJ FILMA:\nMlada hakerica Lisbeth Salander i novinar Mikael Blomkvist nalaze se uhvaćeni u mreži špijuna\, cyber-kriminalaca i korumpiranih vladinih dužnosnika. \n
URL:http://www.kinopobjeda.hr/raspored/sto-nas-ne-ubije/
END:VEVENT
END:VCALENDAR