BEGIN:VCALENDAR
VERSION:2.0
PRODID:-//Kino Pobjeda Metković - ECPv4.6.8//NONSGML v1.0//EN
CALSCALE:GREGORIAN
METHOD:PUBLISH
X-WR-CALNAME:Kino Pobjeda Metković
X-ORIGINAL-URL:http://www.kinopobjeda.hr
X-WR-CALDESC:Events for Kino Pobjeda Metković
BEGIN:VEVENT
DTSTART;TZID=UTC+1:20180930T173000
DTEND;TZID=UTC+1:20180930T190000
DTSTAMP:20260422T191425
CREATED:20180927T130814Z
LAST-MODIFIED:20180927T130814Z
UID:2486-1538328600-1538334000@www.kinopobjeda.hr
SUMMARY:STOPALIĆI
DESCRIPTION:\nStopalići – sink \nU filmu „Stopalići” glume Channing Tatum kao jeti Migo i James Corden kao stopalić\, Percy. Uz njih glume Zendaya\, Common\, LeBron James\, Danny DeVito\, Gina Rodriguez\, Yara Shahidi\, Ely Henry i Jimmy Tatro.\n„Stopaliće” je režirao Karey Kirkpatrick\, redatelj nagrađen nagradom Annie za „Over the Hedge” i s nominacijom za Annie za scenarije za „Chicken Run” i „James and the Giant Peach.” Scenarij su napisali Kirkpatrick i Clare Sera\, screen story John Requa i Glenn Ficarra i Kirkpatrick\, na temelju knjige Yeti Tracks Sergioa Pablosa.\nProdukciju potpisuju Bonne Radford\, Glenn Ficarra i John Requa\, a Nicholas Stoller\, Phil Lord\, Christopher Miller\, Jared Stern\, Karey Kirkpatrick\, Sergio Pablos\, Courtenay Valenti\, i Allison Abbate su izvršni producenti. Kreativni tim uključuje montažera Petera Ettingera i skladatelja Heitora Pereira. Animaciju potpisuje kompanija Sony Pictures Imageworks. Jason Reisig je ko-direktor. Ron Kurniawan je scenograf\, a Devin Crane umjetnički direktor.\nIz kompanija Warner Bros. Pictures i Warner Animation Group\, u produkciji kompanije Zaftig Films\, „Stopalići” će distribuirati diljem svijeta Warner Bros. Pictures. \n
URL:http://www.kinopobjeda.hr/raspored/stopalici/
END:VEVENT
END:VCALENDAR