BEGIN:VCALENDAR
VERSION:2.0
PRODID:-//Kino Pobjeda Metković - ECPv4.6.8//NONSGML v1.0//EN
CALSCALE:GREGORIAN
METHOD:PUBLISH
X-WR-CALNAME:Kino Pobjeda Metković
X-ORIGINAL-URL:http://www.kinopobjeda.hr
X-WR-CALDESC:Events for Kino Pobjeda Metković
BEGIN:VEVENT
DTSTART;TZID=UTC+1:20180323T193000
DTEND;TZID=UTC+1:20180323T210000
DTSTAMP:20260423T020954
CREATED:20180320T074149Z
LAST-MODIFIED:20180320T074149Z
UID:2167-1521833400-1521838800@www.kinopobjeda.hr
SUMMARY:Stranci: Noćni plijen
DESCRIPTION:\nIZVORNO IME: Strangers: Prey at Night\nREDATELJ: Johannes Roberts | ŽANR: horor\nULOGE: Christina Hendricks\, Bailee Madison\, Martin Henderson\nTRAJANJE FILMA: 85 minuta | GODINA: 2018 | DRŽAVA: SAD |\nDATUM PRIKAZIVANJA: 23.03. | 19\,30\nSADRŽAJ FILMA:\nU centru zbivanja je četveročlana obitelj\, koja se zbog financijske situacije seli u izoliranu kućicu. Nedugo nakon doseljenja troje nepoznatih ljudi ih počinju maltretirati\, a borba za život tek počinje. \n \n
URL:http://www.kinopobjeda.hr/raspored/stranci-nocni-plijen/
CATEGORIES:horor
END:VEVENT
END:VCALENDAR