BEGIN:VCALENDAR
VERSION:2.0
PRODID:-//Kino Pobjeda Metković - ECPv4.6.8//NONSGML v1.0//EN
CALSCALE:GREGORIAN
METHOD:PUBLISH
X-WR-CALNAME:Kino Pobjeda Metković
X-ORIGINAL-URL:http://www.kinopobjeda.hr
X-WR-CALDESC:Events for Kino Pobjeda Metković
BEGIN:VEVENT
DTSTART;TZID=UTC+1:20230422T173000
DTEND;TZID=UTC+1:20230422T190200
DTSTAMP:20260419T221214
CREATED:20230419T074923Z
LAST-MODIFIED:20230419T074923Z
UID:4806-1682184600-1682190120@www.kinopobjeda.hr
SUMMARY:Super Mario Bros
DESCRIPTION:\nU Kinu ‘Pobjeda’ Metković u subotu\, 22. travnja s početkom u 17:30 na rasporedu je animirani film ‘Super Mario Bros\, sinkroniziran na hrvatski jezik. Iz Nintenda i Illuminationa dolazi novi animirani film inspiriran svijetom iz popularne igrice. Super Mario Bros. Film su producirali osnivač i izvršni direktor Illuminationa Chris Meledandri i Shigeru Miyamoto iz Nintenda. Trailer nam pokazuje izgled Maria\, Bowsera\, Toada\, Luigija i Kameka zajedno sa vojskom Koopa i Dry Bonesa. Tu su i ljuti pingvini koje smo redovno sretali u Super Mario video igricama\, a mogu se čuti i neki likovi kako govore po prvi puta. \nS obzirom koliko veliku bazu obožavatelja Super Mario ima\, usudili bi se reći i najveću u svijetu video igara budući da su generacije odrastale uz njega\, Super Mario Bros. Film će nedvojbeno biti jedan od najvećih hitova 2023. godine. Kraljevstvo gljiva\, stižemo! \n  \n
URL:http://www.kinopobjeda.hr/raspored/super-mario-bros/
CATEGORIES:animirani,sinkronizirano
END:VEVENT
END:VCALENDAR