BEGIN:VCALENDAR
VERSION:2.0
PRODID:-//Kino Pobjeda Metković - ECPv4.6.8//NONSGML v1.0//EN
CALSCALE:GREGORIAN
METHOD:PUBLISH
X-WR-CALNAME:Kino Pobjeda Metković
X-ORIGINAL-URL:http://www.kinopobjeda.hr
X-WR-CALDESC:Events for Kino Pobjeda Metković
BEGIN:VEVENT
DTSTART;TZID=UTC+1:20190101T193000
DTEND;TZID=UTC+1:20190101T213000
DTSTAMP:20260423T014025
CREATED:20190128T134631Z
LAST-MODIFIED:20190128T134631Z
UID:2676-1546371000-1546378200@www.kinopobjeda.hr
SUMMARY:SUSPIRIA
DESCRIPTION:\nSUSPIRIA\nIZVORNO IME: Suspiria\nREDATELJ: Luca Guadagnino | ŽANR: horor\nULOGE: Chloë Grace Moretz\, Tilda Swinton\, Lutz Ebersdorf\, Dakota Johnson\nTRAJANJE FILMA: 152 minuta | GODINA: 2018 | DRŽAVA: SAD | PLAKAT FILMA\nPOČETAK PRIKAZIVANJA: 24.01.2019\nSADRŽAJ FILMA:\nTama se nadvija nad središtem svjetske\, novo-obnovljene plesne kompanije\, a koja prijeti u\npotpunosti obuzeti njezinu umjetničku direktoricu (Tilda Swinton)\, ambicioznu mladu\nplesačicu (Dakota Johnson) i psihoterapeuta u žalosti (Lutz Ebersdorf). Neki od njih će\npodleći toj noćnoj mori. Drugi će se konačno probuditi. \n
URL:http://www.kinopobjeda.hr/raspored/suspiria/
END:VEVENT
END:VCALENDAR