BEGIN:VCALENDAR
VERSION:2.0
PRODID:-//Kino Pobjeda Metković - ECPv4.6.8//NONSGML v1.0//EN
CALSCALE:GREGORIAN
METHOD:PUBLISH
X-WR-CALNAME:Kino Pobjeda Metković
X-ORIGINAL-URL:http://www.kinopobjeda.hr
X-WR-CALDESC:Events for Kino Pobjeda Metković
BEGIN:VEVENT
DTSTART;TZID=UTC+1:20220618T173000
DTEND;TZID=UTC+1:20220618T191500
DTSTAMP:20260420T110007
CREATED:20220613T083344Z
LAST-MODIFIED:20220613T083344Z
UID:4429-1655573400-1655579700@www.kinopobjeda.hr
SUMMARY:Svjetlosni
DESCRIPTION:\nAnimirani film ‘Svjetlosni’ je nova priča studija Disney i Pixar o nastanku Buzza Svjetlosnog\, svemirskog rendžera iz popularne franšize „Priča o igračkama”\, a u Kinu ‘Pobjeda’ Metković na rasporedu je u subotu\, 18. lipnja u 17:30.\nRadnja filma istražuje priču o podrijetlu astronauta Buzza Svjetlosnog i njegov napredak kako bi postao kapetan Jedinice za zaštitu svemira – Space Rangersa\, posvećene borbi protiv zlog cara Zurga. \n  \n
URL:http://www.kinopobjeda.hr/raspored/svjetlosni/
CATEGORIES:animirani,sinkronizirano
END:VEVENT
END:VCALENDAR