BEGIN:VCALENDAR
VERSION:2.0
PRODID:-//Kino Pobjeda Metković - ECPv4.6.8//NONSGML v1.0//EN
CALSCALE:GREGORIAN
METHOD:PUBLISH
X-WR-CALNAME:Kino Pobjeda Metković
X-ORIGINAL-URL:http://www.kinopobjeda.hr
X-WR-CALDESC:Events for Kino Pobjeda Metković
BEGIN:VEVENT
DTSTART;TZID=UTC+1:20180923T173000
DTEND;TZID=UTC+1:20180923T190000
DTSTAMP:20260422T223825
CREATED:20180921T065116Z
LAST-MODIFIED:20180921T065708Z
UID:2451-1537723800-1537729200@www.kinopobjeda.hr
SUMMARY:TAJNI ŽIVOT MAČAKA - SINK
DESCRIPTION:\nIZVORNO IME: Cats\nREDATELJ: Gary Wang | ŽANR: animirani\nULOGE: Goran Malus\, Ana Ćapalija\, Zoran Pribičević\, Ivana Rushaidat\, Ranko Tihomirović\, Sandra Hrenar\nTRAJANJE FILMA: 105 minuta | GODINA: 2017 | DRŽAVA: Kina | PLAKAT FILMA\nPOČETAK PRIKAZIVANJA: 23.09.2018 \nSADRŽAJ FILMA:\nTom je debeo i lijen mačak koji često sjedi zamišljen na prozoru. Živi sa sinom Tinom u svom udobnom gradskom stanu gdje je rođen i u čijoj udobnosti uživa. Radi trauma iz prošlosti\, vanjskog se svijeta boji i ne želi izlaziti van stana. S druge strane\, iako nikad nije izašao iz stana\, aktivnog i bistrog sina Tina vanjski svijet neodoljivo privlači. Ipak\, jednog dana\, otac i sin moraju napustiti stan i tada kreće sjajna avantura i potraga za legendarnom Breskvotopijom. \n  \n
URL:http://www.kinopobjeda.hr/raspored/tajni-zivot-macaka-sink/
END:VEVENT
END:VCALENDAR