BEGIN:VCALENDAR
VERSION:2.0
PRODID:-//Kino Pobjeda Metković - ECPv4.6.8//NONSGML v1.0//EN
CALSCALE:GREGORIAN
METHOD:PUBLISH
X-WR-CALNAME:Kino Pobjeda Metković
X-ORIGINAL-URL:http://www.kinopobjeda.hr
X-WR-CALDESC:Events for Kino Pobjeda Metković
BEGIN:VEVENT
DTSTART;TZID=UTC+1:20220304T193000
DTEND;TZID=UTC+1:20220304T222600
DTSTAMP:20260420T152017
CREATED:20220228T081758Z
LAST-MODIFIED:20220228T081758Z
UID:4300-1646422200-1646432760@www.kinopobjeda.hr
SUMMARY:The Batman
DESCRIPTION:\nU Kinu ‘Pobjeda’ Metković u petak\, 4. ožujka u 19:30 na rasporedu je ‘The Batman’ kojega tumači Robert Pattinson. \nNakon godina lutanja ulicama Gothama\, i sa tek nekoliko pouzdanih saveznika – usamljeni osvetnik postaje jedino utjelovljenje pravde među svojim sugrađanima. Kada Gothamovu elitu napadne sadistički ubojica\, niz zagonetnih tragova vodi najvećeg istražitelja podzemlja u najmračniju avanturu do sada. \nU režiji velikog Matta Reevesa\, novi film donosi brojne poznate negativce koji dobivaju mračni novi izgled. Paul Dano glumi Riddlera\, Zoe Kravitz je Žena mačka\, a neprepoznatljivi Colin Farrell pojavljuje se u ulozi zloglasnog Pingvina. \n  \n
URL:http://www.kinopobjeda.hr/raspored/the-batman/
CATEGORIES:12,akcija
END:VEVENT
END:VCALENDAR