BEGIN:VCALENDAR
VERSION:2.0
PRODID:-//Kino Pobjeda Metković - ECPv4.6.8//NONSGML v1.0//EN
CALSCALE:GREGORIAN
METHOD:PUBLISH
X-WR-CALNAME:Kino Pobjeda Metković
X-ORIGINAL-URL:http://www.kinopobjeda.hr
X-WR-CALDESC:Events for Kino Pobjeda Metković
BEGIN:VEVENT
DTSTART;TZID=UTC+1:20220708T200000
DTEND;TZID=UTC+1:20220708T220000
DTSTAMP:20260420T084127
CREATED:20220707T101711Z
LAST-MODIFIED:20220707T101711Z
UID:4462-1657310400-1657317600@www.kinopobjeda.hr
SUMMARY:Thor: Ljubav i grom
DESCRIPTION:\nU Kinu ‘Pobjeda’ Metković u petak\, 8. srpnja s početkom u 20 sati na rasporedu je akcijska avantura ‘Thor: Ljubav i grom’.\nU novom Marvelovom blockbusteru\, Thor će se naći na najtežem putovanju do sada – u potrazi za unutarnjim mirom. \nThorovo umirovljenje prekida galaktički ubojica poznat kao Gorr the God Butcher (Christian Bale)\, koji traži istrebljenje bogova. Thor će morati tražiti pomoć kraljice Valkyrie\, Korga i bivše djevojke Jane Foster\, koja – na Thorovo iznenađenje – neobjašnjivo upravlja njegovim čarobnim maljem\, Mjolnirom\, jednako kao i on sam. Zajedno se upuštaju u nepoznatu avanturu kako bi otkrili razloge Gorrove osvete i zaustave ga prije nego što bude prekasno. \n\n
URL:http://www.kinopobjeda.hr/raspored/thor-ljubav-grom/
CATEGORIES:12,akcija,avantura
END:VEVENT
END:VCALENDAR