BEGIN:VCALENDAR
VERSION:2.0
PRODID:-//Kino Pobjeda Metković - ECPv4.6.8//NONSGML v1.0//EN
CALSCALE:GREGORIAN
METHOD:PUBLISH
X-WR-CALNAME:Kino Pobjeda Metković
X-ORIGINAL-URL:http://www.kinopobjeda.hr
X-WR-CALDESC:Events for Kino Pobjeda Metković
BEGIN:VEVENT
DTSTART;TZID=UTC+1:20220212T193000
DTEND;TZID=UTC+1:20220212T212200
DTSTAMP:20260420T162810
CREATED:20220207T090333Z
LAST-MODIFIED:20220207T090333Z
UID:4266-1644694200-1644700920@www.kinopobjeda.hr
SUMMARY:Ti si taj
DESCRIPTION:\nU Kinu ‘Pobjeda’ Metković u subotu\, 12. veljače u 19:30 na rasporedu je romantična komedija ‘Ti si taj’. \nNajseksi slavni par na svijetu Kat Valdez (Lopez) i nova glazbena zvijezda Bastian (Maluma) odluči se vjenčati pred publikom povodom uspješnog hit singla “Marry Me”. Ceremonija će biti dio koncerta i prenosit će se uživo preko društvenih platformi. \nCharliea Gilberta (Wilson)\, razvedenog profesora matematike\, na taj su koncert odvukle kći Lou (Chloe Coleman) i njegova najbolja prijateljica (Sarah Silverman). Nekoliko sekundi prije početka ceremonije Kat sazna da ju je Bastian prevario s njezinom asistenticom. Njezin svijet se ruši i ona se slomi na pozornici preispitujući ljubav\, istinu i odanost. Najednom\, ugleda stranca u gomili i njihovi pogledi se spoje. U tom trenutku izgubljenosti i ludila\, Kat se odluči udati za tog stranca\, a taj stranac je Charlie. Ako vas ono poznato iznevjeri\, onda je možda ono nepoznato pravi odgovor. Ovdje započinje priča filma Ti si Taj\, priča o impulzivnom trenutku i ludosti iz koje se razvije neočekivana romansa. \n  \n
URL:http://www.kinopobjeda.hr/raspored/ti-si-taj/
CATEGORIES:12,romantična komedija
END:VEVENT
END:VCALENDAR