BEGIN:VCALENDAR
VERSION:2.0
PRODID:-//Kino Pobjeda Metković - ECPv4.6.8//NONSGML v1.0//EN
CALSCALE:GREGORIAN
METHOD:PUBLISH
X-WR-CALNAME:Kino Pobjeda Metković
X-ORIGINAL-URL:http://www.kinopobjeda.hr
X-WR-CALDESC:Events for Kino Pobjeda Metković
BEGIN:VEVENT
DTSTART;TZID=UTC+1:20230218T193000
DTEND;TZID=UTC+1:20230218T224500
DTSTAMP:20260419T231852
CREATED:20230214T082509Z
LAST-MODIFIED:20230214T082509Z
UID:4711-1676748600-1676760300@www.kinopobjeda.hr
SUMMARY:Titanic - 25. godišnjica - 3D
DESCRIPTION:\nU Kinu ‘Pobjeda’ Metković u subotu\, 18. veljače s početkom u 19:30 na rasporedu je ‘Titanic: 25. godišnjica’. Najpoznatiji film redatelja Jamesa Camerona vraća se na velika platna povodom svoje 25. obljetnice\, samo u 3D formatu!\nTitanic je ušao u filmsku povijest osvojivši 11 Oscara\, uključujući one za najbolji film i režiju. Nakon prvog prikazivanja 1997. godine\, film je postao najuspješniji film svih vremena i trenutno je treći film s najvećom zaradom u svijetu. \nU ovoj fiktivnoj priči smještenoj u sjeni stvarne tragedije potonuća možda najpoznatijeg broda u povijesti glume Leonardo DiCaprio kao Jack Dawson i Kate Winslet kao Rose DeWitt Bukater\, pripadnici potpuno različitih slojeva društva koji se zaljube u trenutku dok brod putuje prema svojoj propasti. \n  \n
URL:http://www.kinopobjeda.hr/raspored/titanic-25-godisnjica-3d/
CATEGORIES:12,drama,ljubavna drama,romansa
END:VEVENT
END:VCALENDAR