BEGIN:VCALENDAR
VERSION:2.0
PRODID:-//Kino Pobjeda Metković - ECPv4.6.8//NONSGML v1.0//EN
CALSCALE:GREGORIAN
METHOD:PUBLISH
X-WR-CALNAME:Kino Pobjeda Metković
X-ORIGINAL-URL:http://www.kinopobjeda.hr
X-WR-CALDESC:Events for Kino Pobjeda Metković
BEGIN:VEVENT
DTSTART;TZID=UTC+1:20210227T170000
DTEND;TZID=UTC+1:20210227T184000
DTSTAMP:20260421T063638
CREATED:20210222T121831Z
LAST-MODIFIED:20210222T121831Z
UID:3677-1614445200-1614451200@www.kinopobjeda.hr
SUMMARY:Tom & Jerry
DESCRIPTION:\nU Kinu „Pobjeda“ Metković u subotu\, 27. veljače u 17 sati na rasporedu je animirani film „Tom & Jerry“\, sinkroniziran na hrvatski jezik.\nJedno od najomiljenijih rivalstava u povijesti ponovno oživljava kad se Jerry useli u najljepši hotel New Yorka uoči “vjenčanja stoljeća”\, prisiljavajući očajnog organizatora vjenčanja da hitno zatraži nužne mjere. Chloë Grace Moretz nalazi se u ulozi tek zaposlene Kayle\, koja ima zadatak riješiti problem glodavaca u hotelu prije važnog događaja. Kayla za pomoć uzima Toma kako bi zajednički zaustavili nestašnog Jerryja. \nSlijedi naravno epska bitka mačke i miša koja prijeti uništenjem njezine karijere\, vjenčanja\, a moguće i samog hotela. No uskoro se pojavljuje još veći problem: zlobni i ambiciozni djelatnik koji se urotio protiv njih troje. \n  \n
URL:http://www.kinopobjeda.hr/raspored/tom-jerry/
CATEGORIES:animirani,avantura,sinkronizirano
END:VEVENT
END:VCALENDAR