BEGIN:VCALENDAR
VERSION:2.0
PRODID:-//Kino Pobjeda Metković - ECPv4.6.8//NONSGML v1.0//EN
CALSCALE:GREGORIAN
METHOD:PUBLISH
X-WR-CALNAME:Kino Pobjeda Metković
X-ORIGINAL-URL:http://www.kinopobjeda.hr
X-WR-CALDESC:Events for Kino Pobjeda Metković
BEGIN:VEVENT
DTSTART;TZID=UTC+1:20180316T193000
DTEND;TZID=UTC+1:20180316T213000
DTSTAMP:20260423T031415
CREATED:20180312T093155Z
LAST-MODIFIED:20180312T093155Z
UID:2141-1521228600-1521235800@www.kinopobjeda.hr
SUMMARY:Tomb Raider
DESCRIPTION:\nIZVORNO IME: Tomb Raider\nREDATELJ: Roar Uthaug | ŽANR: akcija\, avantura\nULOGE: Alicia Vikander\, Walton Goggins\, Hannah John-Kamen\nTRAJANJE FILMA: 118 minuta | GODINA: 2018 | DRŽAVA: SAD |\nDATUM PRIKAZIVANJA: 16.03.2018. U 19\,30 \nSADRŽAJ FILMA:\nLara Croft je strastvena\, samostalna djevojka i kći ekscentričnog pustolova koji je nestao dok je ona još bila tinejdžerica. Sada\, nakon sedam godina\, Lara nema nikakav stvaran cilj ili svrhu te odbija preuzeti uzde carstva svojeg oca jednako kao što odbija priznati da je stvarno otišao.\nProtiveći se očevim posljednjim željama Lara odlučuje ostaviti sve iza sebe kako bi riješila zagonetku njegova misterioznoga nestanka\, a svoju potragu započinje istraživanjem posljednje lokacije na kojoj je viđen. \n \n
URL:http://www.kinopobjeda.hr/raspored/tomb-raider/
CATEGORIES:akcija,avantura
END:VEVENT
END:VCALENDAR