BEGIN:VCALENDAR
VERSION:2.0
PRODID:-//Kino Pobjeda Metković - ECPv4.6.8//NONSGML v1.0//EN
CALSCALE:GREGORIAN
METHOD:PUBLISH
X-WR-CALNAME:Kino Pobjeda Metković
X-ORIGINAL-URL:http://www.kinopobjeda.hr
X-WR-CALDESC:Events for Kino Pobjeda Metković
BEGIN:VEVENT
DTSTART;TZID=UTC+1:20220820T173000
DTEND;TZID=UTC+1:20220820T190900
DTSTAMP:20260420T034306
CREATED:20220812T073508Z
LAST-MODIFIED:20220812T073508Z
UID:4493-1661016600-1661022540@www.kinopobjeda.hr
SUMMARY:Tuljani specijalci
DESCRIPTION:\nU Kinu ‘Pobjeda’ Metković u subotu\, 20. kolovoza u 17:30 na rasporedu je animirani film ‘Tuljani specijalci’\, sinkroniziran na hrvatski jezik.\nNakon što je izgubio svoju najbolju prijateljicu\, neustrašivi tuljan Quinn okuplja nestašnu ekipu koja će morskim psima uzvratiti udarac\, angažirajući iskusnog ratnika Claggarta i njegov vojni um koji će mu pomoći u obuci njihovih prijatelja tuljana. \nQuinn i njegov tim ubrzo počinju koristiti sve lukave trikove i svježe ideje kako bi obranili svoj dio mora od svojih uvijek gladnih protivnika i konačno dokazali da tuljani nisu samo hrana za morske pse! \n  \n
URL:http://www.kinopobjeda.hr/raspored/tuljani-specijalci/
CATEGORIES:animirani,sinkronizirano
END:VEVENT
END:VCALENDAR