BEGIN:VCALENDAR
VERSION:2.0
PRODID:-//Kino Pobjeda Metković - ECPv4.6.8//NONSGML v1.0//EN
CALSCALE:GREGORIAN
METHOD:PUBLISH
X-WR-CALNAME:Kino Pobjeda Metković
X-ORIGINAL-URL:http://www.kinopobjeda.hr
X-WR-CALDESC:Events for Kino Pobjeda Metković
BEGIN:VEVENT
DTSTART;TZID=UTC+1:20231021T200000
DTEND;TZID=UTC+1:20231021T232600
DTSTAMP:20260421T090915
CREATED:20231016T075443Z
LAST-MODIFIED:20231016T075443Z
UID:5076-1697918400-1697930760@www.kinopobjeda.hr
SUMMARY:Ubojice cvjetnog mjeseca
DESCRIPTION:\nU Kinu ‘Pobjeda’ Metković u subotu\, 21. listopada s početkom u 20 sati na rasporedu je kriminalistička povijesna drama ‘Ubojice cvjetnog mjeseca’ – film koji je odmah nakon premijere na festivalu u Cannesu proglašen remek-djelom\, a temelji se na istoimenoj knjizi Davida Granna.\nKultni američki redatelj Martin Scorseseu u svom je novom filmu “Killers of the Flower Moon” okupio provjerenu glumačku ekipu koju predvode oskarovci Leonardo DiCaprio i Robert De Niro. \nFilm prati seriju ubojstava unutar indijanskog plemena Osage u Oklahomi 1920-ih godina. Osage su postali najbogatiji narod na svijetu nakon što je na njihovom teritoriju pronađena nafta. Mnogi su ih zbog toga iskorištavali kako bi došli do novca\, što je dovelo do niza ubojstava koja je The Guardian nazvao genocidom protiv američkih domorodaca. Ubojstva se smatraju prvim velikim slučajem koji je istraživao novoosnovani FBI. \n  \n
URL:http://www.kinopobjeda.hr/raspored/ubojice-cvjetnog-mjeseca/
CATEGORIES:drama,kriminalistički,povijesni
END:VEVENT
END:VCALENDAR