BEGIN:VCALENDAR
VERSION:2.0
PRODID:-//Kino Pobjeda Metković - ECPv4.6.8//NONSGML v1.0//EN
CALSCALE:GREGORIAN
METHOD:PUBLISH
X-WR-CALNAME:Kino Pobjeda Metković
X-ORIGINAL-URL:http://www.kinopobjeda.hr
X-WR-CALDESC:Events for Kino Pobjeda Metković
BEGIN:VEVENT
DTSTART;TZID=UTC+1:20180112T193000
DTEND;TZID=UTC+1:20180112T213000
DTSTAMP:20260423T041413
CREATED:20180109T114707Z
LAST-MODIFIED:20180109T115509Z
UID:1880-1515785400-1515792600@www.kinopobjeda.hr
SUMMARY:UKLETA KUĆA
DESCRIPTION:\nUKLETA KUĆA\nIZVORNO IME: Marrowbone (15)\nREDATELJ: Sergio G. Sánchez  |  ŽANR: triler\nULOGE: George MacKay\, Anya Taylor-Joy\, Charlie Heaton\, Mia Goth\nTRAJANJE FILMA: 110 minuta  |  GODINA: 2017  |\nDATUM PRIKAZIVANJA: 12.01. | 19\,30\nSADRŽAJ FILMA: \n1969. godine u ruralnoj Americi\, Jack (20) i njegova braća\, Jane (19)\, Billy (18) i Sam (5) žive u staroj kući na osamljenoj\, ruševnoj farmi koja je godinama bila napuštena. Napustili su Englesku sa majkom Rose (40)\, bježeći od nasilnog oca i tražeći priliku za novi početak u novoj zemlji. Majka je umrla vrlo brzo nakon što su stigli u Marrowbone.\nDjeca od tada žive u izolaciji\, odvojeni od svijeta\, a majčina je smrt jedna od prvih tajni koje skrivaju zidovi stare kuće…\n\n\n
URL:http://www.kinopobjeda.hr/raspored/ukleta-kuca/
CATEGORIES:triler
END:VEVENT
END:VCALENDAR