BEGIN:VCALENDAR
VERSION:2.0
PRODID:-//Kino Pobjeda Metković - ECPv4.6.8//NONSGML v1.0//EN
CALSCALE:GREGORIAN
METHOD:PUBLISH
X-WR-CALNAME:Kino Pobjeda Metković
X-ORIGINAL-URL:http://www.kinopobjeda.hr
X-WR-CALDESC:Events for Kino Pobjeda Metković
BEGIN:VEVENT
DTSTART;TZID=UTC+1:20180408T173000
DTEND;TZID=UTC+1:20180408T190000
DTSTAMP:20260423T031644
CREATED:20180404T091029Z
LAST-MODIFIED:20180404T091029Z
UID:2200-1523208600-1523214000@www.kinopobjeda.hr
SUMMARY:UKRADENA PRINCEZA - SINK
DESCRIPTION:\nPRINCEZA – SINK \nIZVORNO IME: The Stolen Princess \nREDATELJ: Oleh Malamuzh  |  ŽANR: Animacija\, komedija \nULOGE: Hrvoje Klobučar\, Ana-Marija Percaić\, Ivan Đuričić\, Janko Rakoš \nTRAJANJE FILMA: 91 minuta  |  GODINA: 2018  |  DRŽAVA: Ukrajina  |  PLAKAT FILMA \nPOČETAK PRIKAZIVANJA: 08.04.2018 \n  \nSADRŽAJ FILMA: \nRuslan\, izgubljeni umjetnik\, koji mašta o tome da postane vitez\, upoznaje prekrasnu Milu i zaljubljuje se u nju\, ne sumnjajući ni trena da je ona kraljeva kći. Međutim\, njihova sreća nije dugo trajala. Zli čarobnjak\, Chernomor ukrade Milu kako bi njezinu ljubav pretvorio u svoju čarobnu moć. Ruslan kreće u potragu za ukradenom princezom kako bi dokazao da je ljubav jača i od magije. \n \n
URL:http://www.kinopobjeda.hr/raspored/ukradena-princeza-sink/
CATEGORIES:animirani,komedija
END:VEVENT
END:VCALENDAR