BEGIN:VCALENDAR
VERSION:2.0
PRODID:-//Kino Pobjeda Metković - ECPv4.6.8//NONSGML v1.0//EN
CALSCALE:GREGORIAN
METHOD:PUBLISH
X-WR-CALNAME:Kino Pobjeda Metković
X-ORIGINAL-URL:http://www.kinopobjeda.hr
X-WR-CALDESC:Events for Kino Pobjeda Metković
BEGIN:VEVENT
DTSTART;TZID=UTC+1:20220218T193000
DTEND;TZID=UTC+1:20220218T212600
DTSTAMP:20260420T151352
CREATED:20220214T065707Z
LAST-MODIFIED:20220214T065707Z
UID:4274-1645212600-1645219560@www.kinopobjeda.hr
SUMMARY:Uncharted
DESCRIPTION:\nU Kinu ‘Pobjeda’ Metković u petak\, 18. veljače u 19:30 na rasporedu je akcijska avantura ‘Uncharted’. \nU filmu Uncharted upoznajemo Nathana Drakea (Tom Holland) tijekom njegove prvu avanture u potrazi za blagom s dosjetljivim partnerom Victorom “Sullyjem” Sullivanom (Mark Wahlberg). Inspiriran hvaljenom serijom videoigara\, ovaj akcijsko-avanturistički spektakl čija se radnja događa širom cijelog svijeta prati Natea i Sullyja dok se upuštaju u opasnu potragu za “najvećim blagom koje nikada nije pronađeno”\, također prateći tragove koji bi mogli dovesti do Nateovog davno izgubljenog brata.\n\n
URL:http://www.kinopobjeda.hr/raspored/uncharted/
CATEGORIES:12,akcija,avantura
END:VEVENT
END:VCALENDAR