BEGIN:VCALENDAR
VERSION:2.0
PRODID:-//Kino Pobjeda Metković - ECPv4.6.8//NONSGML v1.0//EN
CALSCALE:GREGORIAN
METHOD:PUBLISH
X-WR-CALNAME:Kino Pobjeda Metković
X-ORIGINAL-URL:http://www.kinopobjeda.hr
X-WR-CALDESC:Events for Kino Pobjeda Metković
BEGIN:VEVENT
DTSTART;TZID=UTC+1:20230402T173000
DTEND;TZID=UTC+1:20230402T185500
DTSTAMP:20260419T230543
CREATED:20230328T073957Z
LAST-MODIFIED:20230328T073957Z
UID:4788-1680456600-1680461700@www.kinopobjeda.hr
SUMMARY:Ups 2! Avantura se nastavlja
DESCRIPTION:\nU Kinu ‘Pobjeda’ Metković u nedjelju\, 2. travnja s početkom u 17:30 na rasporedu je animirani film ‘Ups 2! Avantura se nastavlja’\, sinkroniziran na hrvatski jezik – nastavak zabavne animirane avanture ‘Ups! Noa je otišao’.\nNaši poznati mali junaci jure kroz avanturu koja zaustavlja dah\, ispunjenu opasnim jurnjavama i zabavnim trenucima koji izazivaju smijeh. Bližio se kraj svijeta i postojala je opasnost da poplave unište sva bića na planeti. U Noinu arku redom su se ukrcale sve vrste životinja\, od najveće do najmanje. Noina arka pluta otvorenim morem. Nakon tjedana nema zemlje na vidiku\, zalihe hrane su pri kraju\, a krhki mir između mesojeda i biljojeda mogao bi se narušiti svake sekunde. Nakon niza nesretnih događaja Finny se budi u neobičnoj koloniji ispunjenoj čudnim stvorenjima koja žive u harmoniji – pod prijetnjom vulkana! U utrci s vremenom\, plimom i zastrašujućim potresima\, on mora spasiti svoje prijatelje\, obitelji i cijelu koloniju od potpunog uništenja. \n  \n
URL:http://www.kinopobjeda.hr/raspored/ups-2-avantura-se-nastavlja/
CATEGORIES:animirani,sinkronizirano
END:VEVENT
END:VCALENDAR