BEGIN:VCALENDAR
VERSION:2.0
PRODID:-//Kino Pobjeda Metković - ECPv4.6.8//NONSGML v1.0//EN
CALSCALE:GREGORIAN
METHOD:PUBLISH
X-WR-CALNAME:Kino Pobjeda Metković
X-ORIGINAL-URL:http://www.kinopobjeda.hr
X-WR-CALDESC:Events for Kino Pobjeda Metković
BEGIN:VEVENT
DTSTART;TZID=UTC+1:20211028T200000
DTEND;TZID=UTC+1:20211028T213700
DTSTAMP:20260419T222609
CREATED:20211018T074236Z
LAST-MODIFIED:20211026T074536Z
UID:4073-1635451200-1635457020@www.kinopobjeda.hr
SUMMARY:Venom 2
DESCRIPTION:\nU Kinu ‘Pobjeda’ Metković u četvrtak\, 28. listopada u 20 sati na rasporedu je film ‘Venom 2’.\nTom Hardy se vraća na veliko platno  kao ubojiti zaštitnik Venom – jedan od najvećih i najkompleksnijih MARVEL-ovih likova. U režiji Andyja Serkisa glume i Michelle Williams\, Naomie Harris te Woody Harrelson u ulozi negativca Cletusa Kasadya / Carnagea. \n
URL:http://www.kinopobjeda.hr/raspored/venom-2/
CATEGORIES:12,akcija,triler
END:VEVENT
END:VCALENDAR