BEGIN:VCALENDAR
VERSION:2.0
PRODID:-//Kino Pobjeda Metković - ECPv4.6.8//NONSGML v1.0//EN
CALSCALE:GREGORIAN
METHOD:PUBLISH
X-WR-CALNAME:Kino Pobjeda Metković
X-ORIGINAL-URL:http://www.kinopobjeda.hr
X-WR-CALDESC:Events for Kino Pobjeda Metković
BEGIN:VEVENT
DTSTART;TZID=UTC+1:20211106T193000
DTEND;TZID=UTC+1:20211106T220600
DTSTAMP:20260420T185506
CREATED:20211102T093226Z
LAST-MODIFIED:20211102T093226Z
UID:4124-1636227000-1636236360@www.kinopobjeda.hr
SUMMARY:Vječnici
DESCRIPTION:\nU Kinu ‘Pobjeda’ Metković u subotu\, 6. studenoga u 19:30 na rasporedu je akcijska avantura ‘Vječnici’\, s Angelinom Jolie u glavnoj ulozi. Besmrtni superjunaci\, od kojih svaki ima posebnu energiju i razlikuje se od ostalih članova\, izlaze iz tajnosti kako bi zajedno s ljudima obranili život na Zemlji. Radnja filma se odvija nakon filma „Osvetnici: Završnica“\, kada novi zaštitnici Zemlje izlaze iz sjene i okupljaju se protiv najstarijeg neprijatelja čovječanstva\, Devijanata. \n  \n
URL:http://www.kinopobjeda.hr/raspored/vjecnici/
CATEGORIES:12,akcija,avantura
END:VEVENT
END:VCALENDAR